Workbook

Sheet 估算表-标段三
A1: 估算汇总表
A2: 工程名称：东乡经开区产城融合基础设施提升工程一企一管项目支墩基础、桁架基础-标段三
A3: 序号 | B3: 工程和费用名称 | C3: 价 值（万元） | H3: 技经指标 | K3: 备注
C4: 建筑工程 | D4: 设备购置 | E4: 安装工程 | F4: 其他费用 | G4: 总价值 | H4: 单位 | I4: 数量 | J4: 单位价值
A5: I | B5: 工程费用 | C5: =SUM(C6,C9:C10) -> 423.75 | G5: =SUM(C5:F5) -> 423.75
A6: 一 | B6: 建筑工程 | C6: 262.75 | G6: =SUM(G7:G8) -> 262.75
A7: 1 | B7: 支墩基础 | C7: 5.95 | G7: =C7 -> 5.95 | H7: m | I7: 700 | J7: 85
A8: 2 | B8: 桁架基础 | C8: 256.8 | G8: =C8 -> 256.8 | H8: m | I8: 2140 | J8: 1200
A9: 二 | B9: 路面破复（含绿化） | C9: 130 | G9: 130 | H9: m2 | I9: 4410 | J9: 20
A10: 三 | B10: 管线迁改 | C10: 31 | G10: 31 | H10: m2 | I10: 6955 | J10: 180

Sheet 标段二
A1: 七 | B1: 架空管廊 | C1: =C2+C9+C15+C16 -> 2351.8914 | D1: =D2+D9+D15+D16 -> 0 | E1: =E2+E9+E15+E16 -> 0 | F1: =F2+F9+F15+F16 -> 0 | G1: =G2+G9+G15+G16 -> 2351.8914 | H1: 个 | I1: 1 | J1: =G1/I1*10000 -> 23518914 | N1: =M1-G1 -> -2351.8914
A2: 一 | B2: 管廊工程 | C2: =SUM(C3:C8) -> 1892.025 | G2: =C2 -> 1892.025 | I2: =SUM(I3:I8) -> 3924 | M2: =I2*J2*0.0001 -> 0 | N2: =M2-G2 -> -1892.025
A3: 1 | B3: 1-1剖面 | C3: =I3*J3/10000 -> 20.915 | G3: =C3 -> 20.915 | H3: m | I3: =[1]标段二!$E$11 -> 890 | J3: 235 | M3: =I3*J3*0.0001 -> 20.915 | N3: =M3-G3 -> 0
A4: 2 | B4: 2-2剖面 | C4: =I4*J4/10000 -> 0 | G4: =C4 -> 0 | H4: m | J4: 425 | M4: =I4*J4*0.0001 -> 0 | N4: =M4-G4 -> 0
A5: 3 | B5: 3-3剖面 | C5: =I5*J5/10000 -> 0 | G5: =C5 -> 0 | H5: m | J5: 665 | M5: =I5*J5*0.0001 -> 0 | N5: =M5-G5 -> 0
A6: 4 | B6: 4-4剖面 | C6: =I6*J6/10000 -> 1025.2 | G6: =C6 -> 1025.2 | H6: m | I6: =[1]标段二!$H$11 -> 1864 | J6: 5500 | O6: =13600 -> 13600 | Q6: =I6*J6*0.0001 -> 1025.2 | R6: 6000
A7: 5 | B7: 5-5剖面 | C7: =I7*J7/10000 -> 845.91 | G7: =C7 -> 845.91 | H7: m | I7: =[1]标段二!$I$11 -> 1170 | J7: 7230 | O7: =15200 -> 15200 | Q7: =I7*J7*0.0001 -> 845.91 | R7: =Q7-G7 -> 0
A8: 6 | B8: 6-6剖面 | C8: =I8*J8/10000 -> 0 | G8: =C8 -> 0 | H8: m | J8: 7500 | O8: =17800 -> 17800 | Q8: =I8*J8*0.0001 -> 0 | R8: =Q8-G8 -> 0
A9: 二 | B9: 管道工程 | C9: =SUM(C10:C14) -> 303.8664 | G9: =C9 -> 303.8664 | M9: =I9*J9*0.0001 -> 0 | N9: =M9-G9 -> -303.8664
A10: 1 | B10: 焊接钢管DN50 | C10: =I10*J10/10000 -> 160.3524 | G10: =C10 -> 160.3524 | H10: m | I10: =[1]标段二!$E$27 -> 20558 | J10: 78 | M10: =I10*J10*0.0001 -> 160.3524 | N10: =M10-G10 -> 0
A11: 2 | B11: 焊接钢管DN80 | C11: =I11*J11/10000 -> 0 | G11: =C11 -> 0 | H11: m | J11: 175 | M11: =I11*J11*0.0001 -> 0 | N11: =M11-G11 -> 0
A12: 3 | B12: 焊接钢管DN100 | C12: =I12*J12/10000 -> 0 | G12: =C12 -> 0 | H12: m | J12: 190 | M12: =I12*J12*0.0001 -> 0 | N12: =M12-G12 -> 0
A13: 4 | B13: 焊接钢管DN150 | C13: =I13*J13/10000 -> 143.514 | G13: =C13 -> 143.514 | H13: m | I13: =[1]标段二!$E$26 -> 4284 | J13: 335 | M13: =I13*J13*0.0001 -> 143.514 | N13: =M13-G13 -> 0
A14: 5 | B14: 焊接钢管DN300 | C14: =I14*J14/10000 -> 0 | G14: =C14 -> 0 | H14: m | J14: 800 | M14: =I14*J14*0.0001 -> 0 | N14: =M14-G14 -> 0
A15: 五 | B15: 路面破复（含绿化） | C15: 128 | G15: =SUM(C15:F15) -> 128 | H15: m2 | I15: 4410 | J15: 20
A16: 六 | B16: 管线迁改 | C16: 28 | G16: =SUM(C16:F16) -> 28 | H16: m2 | I16: 6955 | J16: 180

Sheet 标段三
A1: 七 | B1: 架空管廊 | C1: =C2+C10+C16+C17 -> 2323.39 | D1: =D2+D10+D16+D17 -> 0 | E1: =E2+E10+E16+E17 -> 0 | F1: =F2+F10+F16+F17 -> 0 | G1: =G2+G10+G16+G17 -> 2323.39 | H1: 个 | I1: 1 | J1: =G1/I1*10000 -> 23233900 | N1: =M1-G1 -> -2323.39
A2: 一 | B2: 管廊工程 | C2: =SUM(C3:C9) -> 1818.17 | G2: =C2 -> 1818.17 | I2: =SUM(I3:I8) -> 1940 | M2: =I2*J2*0.0001 -> 0 | N2: =M2-G2 -> -1818.17
A3: 1 | B3: 1-1剖面 | C3: =I3*J3/10000 -> 0 | G3: =C3 -> 0 | H3: m | J3: 235 | M3: =I3*J3*0.0001 -> 0 | N3: =M3-G3 -> 0
A4: 2 | B4: 2-2剖面 | C4: =I4*J4/10000 -> 29.75 | G4: =C4 -> 29.75 | H4: m | I4: 700 | J4: 425 | M4: =I4*J4*0.0001 -> 29.75 | N4: =M4-G4 -> 0
A5: 3 | B5: 3-3剖面 | C5: =I5*J5/10000 -> 0 | G5: =C5 -> 0 | H5: m | J5: 665 | M5: =I5*J5*0.0001 -> 0 | N5: =M5-G5 -> 0
A6: 4 | B6: 4-4剖面 | C6: =I6*J6/10000 -> 0 | G6: =C6 -> 0 | H6: m | J6: 5500 | O6: =13600 -> 13600 | Q6: =I6*J6*0.0001 -> 0 | R6: 6000
A7: 5 | B7: 5-5剖面 | C7: =I7*J7/10000 -> 390.42 | G7: =C7 -> 390.42 | H7: m | I7: =[1]标段三!$I$6 -> 540 | J7: 7230 | O7: =15200 -> 15200 | Q7: =I7*J7*0.0001 -> 390.42 | R7: =Q7-G7 -> 0
A8: 6 | B8: 6-6剖面 | C8: =I8*J8/10000 -> 525 | G8: =C8 -> 525 | H8: m | I8: =[1]标段三!$J$6 -> 700 | J8: 7500 | O8: =17800 -> 17800 | Q8: =I8*J8*0.0001 -> 525 | R8: =Q8-G8 -> 0
A9: 6 | B9: 7-7剖面 | C9: =I9*J9/10000 -> 873 | G9: =C9 -> 873 | H9: m | I9: =[1]标段三!$K$6 -> 900 | J9: 9700
A10: 二 | B10: 管道工程 | C10: =SUM(C11:C15) -> 344.22 | G10: =C10 -> 344.22 | M10: =I10*J10*0.0001 -> 0 | N10: =M10-G10 -> -344.22
A11: 1 | B11: 焊接钢管DN50 | C11: =I11*J11/10000 -> 185.64 | G11: =C11 -> 185.64 | H11: m | I11: =[1]标段三!$E$26 -> 23800 | J11: 78 | M11: =I11*J11*0.0001 -> 185.64 | N11: =M11-G11 -> 0
A12: 2 | B12: 焊接钢管DN80 | C12: =I12*J12/10000 -> 0 | G12: =C12 -> 0 | H12: m | J12: 175 | M12: =I12*J12*0.0001 -> 0 | N12: =M12-G12 -> 0
A13: 3 | B13: 焊接钢管DN100 | C13: =I13*J13/10000 -> 15.2 | G13: =C13 -> 15.2 | H13: m | I13: =[1]标段三!$E$27 -> 800 | J13: 190 | M13: =I13*J13*0.0001 -> 15.2 | N13: =M13-G13 -> 0
A14: 4 | B14: 焊接钢管DN150 | C14: =I14*J14/10000 -> 143.38 | G14: =C14 -> 143.38 | H14: m | I14: =[1]标段三!$E$25 -> 4280 | J14: 335 | M14: =I14*J14*0.0001 -> 143.38 | N14: =M14-G14 -> 0
A15: 5 | B15: 焊接钢管DN300 | C15: =I15*J15/10000 -> 0 | G15: =C15 -> 0 | H15: m | J15: 800 | M15: =I15*J15*0.0001 -> 0 | N15: =M15-G15 -> 0
A16: 五 | B16: 路面破复（含绿化） | C16: 130 | G16: =SUM(C16:F16) -> 130 | H16: m2 | I16: 4410 | J16: 20
A17: 六 | B17: 管线迁改 | C17: 31 | G17: =SUM(C17:F17) -> 31 | H17: m2 | I17: 6955 | J17: 180

Sheet 标段四
A1: 七 | B1: 架空管廊 | C1: =C2+C10+C16++C18+C19+C17 -> 1256.416 | D1: =D2+D10+D16++D18+D19+D17 -> 595.13 | E1: =E2+E10+E16++E18+E19+E17 -> 530 | F1: =F2+F10+F16++F18+F19+F17 -> 0 | G1: =G2+G10+G16++G18+G19+G17 -> 2381.546 | H1: 个 | I1: 1 | J1: =G1/I1*10000 -> 23815460 | N1: =M1-G1 -> -2381.546
A2: 一 | B2: 管廊工程 | C2: =SUM(C3:C9) -> 620.8 | G2: =C2 -> 620.8 | I2: =SUM(I3:I8) -> 0 | M2: =I2*J2*0.0001 -> 0 | N2: =M2-G2 -> -620.8
A3: 1 | B3: 1-1剖面 | C3: =I3*J3/10000 -> 0 | G3: =C3 -> 0 | H3: m | J3: 235 | M3: =I3*J3*0.0001 -> 0 | N3: =M3-G3 -> 0
A4: 2 | B4: 2-2剖面 | C4: =I4*J4/10000 -> 0 | G4: =C4 -> 0 | H4: m | J4: 425 | M4: =I4*J4*0.0001 -> 0 | N4: =M4-G4 -> 0
A5: 3 | B5: 3-3剖面 | C5: =I5*J5/10000 -> 0 | G5: =C5 -> 0 | H5: m | J5: 665 | M5: =I5*J5*0.0001 -> 0 | N5: =M5-G5 -> 0
A6: 4 | B6: 4-4剖面 | C6: =I6*J6/10000 -> 0 | G6: =C6 -> 0 | H6: m | J6: 5500 | O6: =13600 -> 13600 | Q6: =I6*J6*0.0001 -> 0 | R6: 6000
A7: 5 | B7: 5-5剖面 | C7: =I7*J7/10000 -> 0 | G7: =C7 -> 0 | H7: m | J7: 7230 | O7: =15200 -> 15200 | Q7: =I7*J7*0.0001 -> 0 | R7: =Q7-G7 -> 0
A8: 6 | B8: 6-6剖面 | C8: =I8*J8/10000 -> 0 | G8: =C8 -> 0 | H8: m | J8: 7500 | O8: =17800 -> 17800 | Q8: =I8*J8*0.0001 -> 0 | R8: =Q8-G8 -> 0
A9: 6 | B9: 7-7剖面 | C9: =I9*J9/10000 -> 620.8 | G9: =C9 -> 620.8 | H9: m | I9: =[1]标段四!$K$4 -> 640 | J9: 9700
A10: 二 | B10: 管道工程 | C10: =SUM(C11:C15) -> 119.936 | G10: =C10 -> 119.936 | M10: =I10*J10*0.0001 -> 0 | N10: =M10-G10 -> -119.936
A11: 1 | B11: 焊接钢管DN50 | C11: =I11*J11/10000 -> 64.896 | G11: =C11 -> 64.896 | H11: m | I11: =[1]标段四!$E$25 -> 8320 | J11: 78 | M11: =I11*J11*0.0001 -> 64.896 | N11: =M11-G11 -> 0
A12: 2 | B12: 焊接钢管DN80 | C12: =I12*J12/10000 -> 0 | G12: =C12 -> 0 | H12: m | J12: 175 | M12: =I12*J12*0.0001 -> 0 | N12: =M12-G12 -> 0
A13: 3 | B13: 焊接钢管DN100 | C13: =I13*J13/10000 -> 12.16 | G13: =C13 -> 12.16 | H13: m | I13: =[1]标段四!$E$24 -> 640 | J13: 190 | M13: =I13*J13*0.0001 -> 12.16 | N13: =M13-G13 -> 0
A14: 4 | B14: 焊接钢管DN150 | C14: =I14*J14/10000 -> 42.88 | G14: =C14 -> 42.88 | H14: m | I14: =[1]标段四!$E$23 -> 1280 | J14: 335 | M14: =I14*J14*0.0001 -> 42.88 | N14: =M14-G14 -> 0
A15: 5 | B15: 焊接钢管DN300 | C15: =I15*J15/10000 -> 0 | G15: =C15 -> 0 | H15: m | J15: 800 | M15: =I15*J15*0.0001 -> 0 | N15: =M15-G15 -> 0
A16: 三 | B16: 新建调节池（含设备） | C16: =I16*J16/10000 -> 319 | D16: 240 | G16: =SUM(C16:F16) -> 559 | H16: m3 | I16: =15*15*4*2+10*10*4 -> 2200 | J16: 1450 | M16: =I16*J16*0.0001 -> 319 | N16: =M16-G16 -> -240
A17: 四 | B17: 仪表间（含设备） | C17: =I17*J17/10000 -> 31.68 | D17: 355.13 | E17: 530 | G17: =SUM(C17:F17) -> 916.81 | H17: m2 | I17: =8*8+8*8+4*4 -> 144 | J17: 2200 | M17: =I17*J17*0.0001 -> 31.68 | N17: =M17-G17 -> -885.13
A18: 五 | B18: 路面破复（含绿化） | C18: 135 | G18: =SUM(C18:F18) -> 135 | H18: m2 | I18: 4410 | J18: 20
A19: 六 | B19: 管线迁改 | C19: 30 | G19: =SUM(C19:F19) -> 30 | H19: m2 | I19: 6955 | J19: 180

Sheet 标段五
A1: 七 | B1: 架空管廊 | C1: =C2+C10++C16+C17 -> 545.25 | D1: =D2+D10++D16+D17 -> 0 | E1: =E2+E10++E16+E17 -> 0 | F1: =F2+F10++F16+F17 -> 0 | G1: =G2+G10++G16+G17 -> 545.25 | H1: m | I1: 1 | J1: =G1/I1*10000 -> 5452500 | N1: =M1-G1 -> -545.25
A2: 一 | B2: 管廊工程 | C2: =SUM(C3:C8) -> 115.2 | G2: =C2 -> 115.2 | I2: =SUM(I3:I8) -> 3180 | M2: =I2*J2*0.0001 -> 0 | N2: =M2-G2 -> -115.2
A3: 1 | B3: 1-1剖面 | C3: =I3*J3/10000 -> 24.675 | G3: =C3 -> 24.675 | H3: m | I3: =[1]标段五!$E$6 -> 1050 | J3: 235 | M3: =I3*J3*0.0001 -> 24.675 | N3: =M3-G3 -> 0
A4: 2 | B4: 2-2剖面 | C4: =I4*J4/10000 -> 90.525 | G4: =C4 -> 90.525 | H4: m | I4: =[1]标段五!$F$6 -> 2130 | J4: 425 | M4: =I4*J4*0.0001 -> 90.525 | N4: =M4-G4 -> 0
A5: 3 | B5: 3-3剖面 | C5: =I5*J5/10000 -> 0 | G5: =C5 -> 0 | H5: m | J5: 665 | M5: =I5*J5*0.0001 -> 0 | N5: =M5-G5 -> 0
A6: 4 | B6: 4-4剖面 | C6: =I6*J6/10000 -> 0 | G6: =C6 -> 0 | H6: m | J6: 5500 | O6: =13600 -> 13600 | Q6: =I6*J6*0.0001 -> 0 | R6: 6000
A7: 5 | B7: 5-5剖面 | C7: =I7*J7/10000 -> 0 | G7: =C7 -> 0 | H7: m | J7: 7230 | O7: =15200 -> 15200 | Q7: =I7*J7*0.0001 -> 0 | R7: =Q7-G7 -> 0
A8: 6 | B8: 6-6剖面 | C8: =I8*J8/10000 -> 0 | G8: =C8 -> 0 | H8: m | J8: 7500 | O8: =17800 -> 17800 | Q8: =I8*J8*0.0001 -> 0 | R8: =Q8-G8 -> 0
A9: 6 | B9: 7-7剖面 | C9: =I9*J9/10000 -> 0 | G9: =C9 -> 0 | H9: m | J9: 9700
A10: 二 | B10: 管道工程 | C10: =SUM(C11:C15) -> 266.05 | G10: =C10 -> 266.05 | M10: =I10*J10*0.0001 -> 0 | N10: =M10-G10 -> -266.05
A11: 1 | B11: 焊接钢管DN50 | C11: =I11*J11/10000 -> 0 | G11: =C11 -> 0 | H11: m | J11: 78 | M11: =I11*J11*0.0001 -> 0 | N11: =M11-G11 -> 0
A12: 2 | B12: 焊接钢管DN80 | C12: =I12*J12/10000 -> 44.45 | G12: =C12 -> 44.45 | H12: m | I12: =[1]标段五!$E$9 -> 2540 | J12: 175 | M12: =I12*J12*0.0001 -> 44.45 | N12: =M12-G12 -> 0
A13: 3 | B13: 焊接钢管DN100 | C13: =I13*J13/10000 -> 0 | G13: =C13 -> 0 | H13: m | J13: 190 | M13: =I13*J13*0.0001 -> 0 | N13: =M13-G13 -> 0
A14: 4 | B14: 焊接钢管DN150 | C14: =I14*J14/10000 -> 0 | G14: =C14 -> 0 | H14: m | J14: 335 | M14: =I14*J14*0.0001 -> 0 | N14: =M14-G14 -> 0
A15: 5 | B15: 焊接钢管DN300 | C15: =I15*J15/10000 -> 221.6 | G15: =C15 -> 221.6 | H15: m | I15: =[1]标段五!$E$8 -> 2770 | J15: 800 | M15: =I15*J15*0.0001 -> 221.6 | N15: =M15-G15 -> 0
A16: 五 | B16: 路面破复（含绿化） | C16: 134 | G16: =SUM(C16:F16) -> 134 | H16: m2 | I16: 4410 | J16: 20
A17: 六 | B17: 管线迁改 | C17: 30 | G17: =SUM(C17:F17) -> 30 | H17: m2 | I17: 6955 | J17: 180

Sheet 综合估算表
A1: 七 | B1: 架空管廊 | C1: =C2+C9+C15+C16+C17+C18+C19+C20+C27+C28+C29+C30 -> 6978.8406 | D1: =D2+D9+D15+D16+D17+D18+D19+D20 -> 209.273 | E1: =E2+E9+E15+E16+E17+E18+E19+E20 -> 530 | F1: =F2+F9+F15+F16+F17+F18+F19+F20 -> 0 | G1: =G2+G9+G15+G16+G17+G18+G19+G20+G27+G28+G29+G30 -> 7718.0606 | H1: 个 | I1: 1 | J1: =G1/I1*10000 -> 77180606 | N1: =M1-G1 -> -7718.0606
A2: 一 | B2: 管廊工程 | C2: =SUM(C3:C8) -> 5153.854 | G2: =C2 -> 5153.854 | M2: =I2*J2*0.0001 -> 0 | N2: =M2-G2 -> -5153.854
A3: 1 | B3: 1-1剖面 | C3: =I3*J3/10000 -> 60.3715 | G3: =C3 -> 60.3715 | H3: m | I3: 2569 | J3: 235 | M3: =I3*J3*0.0001 -> 60.3715 | N3: =M3-G3 -> 0
A4: 2 | B4: 2-2剖面 | C4: =I4*J4/10000 -> 245.65 | G4: =C4 -> 245.65 | H4: m | I4: 5780 | J4: 425 | M4: =I4*J4*0.0001 -> 245.65 | N4: =M4-G4 -> 0
A5: 3 | B5: 3-3剖面 | C5: =I5*J5/10000 -> 106.7325 | G5: =C5 -> 106.7325 | H5: m | I5: 1605 | J5: 665 | M5: =I5*J5*0.0001 -> 106.7325 | N5: =M5-G5 -> 0
A6: 4 | B6: 4-4剖面 | C6: =I6*J6/10000 -> 243.2 | G6: =C6 -> 243.2 | H6: m | I6: 320 | J6: =O6-$R$6 -> 7600 | O6: =13600 -> 13600 | Q6: =I6*J6*0.0001 -> 243.2 | R6: 6000
A7: 5 | B7: 5-5剖面 | C7: =I7*J7/10000 -> 1683.6 | G7: =C7 -> 1683.6 | H7: m | I7: 1830 | J7: =O7-$R$6 -> 9200 | O7: =15200 -> 15200 | Q7: =I7*J7*0.0001 -> 1683.6 | R7: =Q7-G7 -> 0
A8: 6 | B8: 6-6剖面 | C8: =I8*J8/10000 -> 2814.3 | G8: =C8 -> 2814.3 | H8: m | I8: 2385 | J8: =O8-$R$6 -> 11800 | O8: =17800 -> 17800 | Q8: =I8*J8*0.0001 -> 2814.3 | R8: =Q8-G8 -> 0
A9: 二 | B9: 管道工程 | C9: =SUM(C10:C14) -> 1100.7766 | G9: =C9 -> 1100.7766 | M9: =I9*J9*0.0001 -> 0 | N9: =M9-G9 -> -1100.7766
A10: 1 | B10: 焊接钢管DN50 | C10: =I10*J10/10000 -> 428.4696 | G10: =C10 -> 428.4696 | H10: m | I10: 54932 | J10: 78 | M10: =I10*J10*0.0001 -> 428.4696 | N10: =M10-G10 -> 0
A11: 2 | B11: 焊接钢管DN80 | C11: =I11*J11/10000 -> 48.65 | G11: =C11 -> 48.65 | H11: m | I11: 2780 | J11: 175 | M11: =I11*J11*0.0001 -> 48.65 | N11: =M11-G11 -> 0
A12: 3 | B12: 焊接钢管DN100 | C12: =I12*J12/10000 -> 17.1 | G12: =C12 -> 17.1 | H12: m | I12: 900 | J12: 190 | M12: =I12*J12*0.0001 -> 17.1 | N12: =M12-G12 -> 0
A13: 4 | B13: 焊接钢管DN150 | C13: =I13*J13/10000 -> 366.557 | G13: =C13 -> 366.557 | H13: m | I13: 10942 | J13: 335 | M13: =I13*J13*0.0001 -> 366.557 | N13: =M13-G13 -> 0
A14: 5 | B14: 焊接钢管DN300 | C14: =I14*J14/10000 -> 240 | G14: =C14 -> 240 | H14: m | I14: 3000 | J14: 800 | M14: =I14*J14*0.0001 -> 240 | N14: =M14-G14 -> 0
A15: 三 | B15: 新建调节池 | C15: =I15*J15/10000 -> 319 | G15: =C15 -> 319 | H15: m3 | I15: =15*15*4*2+10*10*4 -> 2200 | J15: 1450 | M15: =I15*J15*0.0001 -> 319 | N15: =M15-G15 -> 0
A16: 四 | B16: 新建调节池设备（含除臭设备） | C16: =I16*J16/10000 -> 240 | G16: =C16 -> 240 | H16: 组 | I16: 3 | J16: 800000 | M16: =I16*J16*0.0001 -> 240 | N16: =M16-G16 -> 0
A17: 五 | B17: 仪表间 | D17: =I17*J17/10000 -> 31.68 | G17: =D17 -> 31.68 | H17: m2 | I17: =8*8+8*8+4*4 -> 144 | J17: 2200 | M17: =I17*J17*0.0001 -> 31.68 | N17: =M17-G17 -> 0
A18: 六 | B18: 防雷接地 | D18: =I18*J18/10000 -> 0.003 | E18: 30 | G18: 30 | I18: 1 | J18: =G18 -> 30 | M18: =I18*J18 -> 30 | N18: =M18-G18 -> 0
A19: 七 | B19: 视频监控 | D19: =I19*J19/10000 -> 0.05 | E19: 500 | G19: 500 | I19: 1 | J19: =G19 -> 500 | M19: =I19*J19 -> 500 | N19: =M19-G19 -> 0
A20: 八 | B20: 水质监测 | D20: =SUM(D21:D26) -> 177.54 | G20: =D20 -> 177.54 | I20: 1 | J20: =G20 -> 177.54 | N20: =M20-G20 -> -177.54
A21: 1 | B21: 数采仪 | D21: =I21*J21/10000 -> 11.7 | G21: =D21 -> 11.7 | H21: 个 | I21: 18 | J21: 6500 | M21: =I21*J21*0.0001 -> 11.7 | N21: =M21-G21 -> 0
A22: 2 | B22: ph | D22: =I22*J22/10000 -> 14.04 | G22: =D22 -> 14.04 | H22: 个 | I22: 18 | J22: 7800 | M22: =I22*J22*0.0001 -> 14.04 | N22: =M22-G22 -> 0
A23: 3 | B23: cod | D23: =I23*J23/10000 -> 50.4 | G23: =D23 -> 50.4 | H23: 个 | I23: 18 | J23: 28000 | M23: =I23*J23*0.0001 -> 50.4 | N23: =M23-G23 -> 0
A24: 4 | B24: 氨氮 | D24: =I24*J24/10000 -> 86.4 | G24: =D24 -> 86.4 | H24: 个 | I24: 18 | J24: 48000 | M24: =I24*J24*0.0001 -> 86.4 | N24: =M24-G24 -> 0
A25: 5 | B25: 4芯单模光纤 | D25: =I25*J25/10000 -> 1.5 | G25: =D25 -> 1.5 | H25: m | I25: 3000 | J25: 5 | M25: =I25*J25*0.0001 -> 1.5 | N25: =M25-G25 -> 0
A26: 6 | B26: 热镀锌钢管50 | D26: =I26*J26/10000 -> 13.5 | G26: =D26 -> 13.5 | H26: m | I26: 3000 | J26: 45 | M26: =I26*J26*0.0001 -> 13.5 | N26: =M26-G26 -> 0
A27: 九 | B27: 绿化带覆草皮 | C27: =I27*J27/10000 -> 8.82 | G27: =C27 -> 8.82 | H27: m2 | I27: 4410 | J27: 20
A28: 十 | B28: 人行道铺砖 | C28: =I28*J28/10000 -> 125.19 | G28: =C28 -> 125.19 | H28: m2 | I28: 6955 | J28: 180
A29: 十一 | B29: 行道树移栽 | C29: =I29*J29/10000 -> 1.2 | G29: =C29 -> 1.2 | H29: 棵 | I29: 120 | J29: 100
A30: 十二 | B30: 管线迁改 | C30: =I30*J30/10000 -> 30 | G30: =C30 -> 30 | H30: m | I30: 2000 | J30: 150
